BEGIN:VCALENDAR
VERSION:2.0
PRODID:-//Strombräu//Events//DE
CALSCALE:GREGORIAN
BEGIN:VEVENT
UID:strombraeu-event-6415@strombraeu.com
DTSTAMP:20260425T165216Z
DTSTART:20260215T100000Z
DTEND:20260215T160000Z
SUMMARY:🎭 Strombräu beim Hirschaider Faschingsumzug 2026
DESCRIPTION:Auch 2026 sind wir wieder mit dabei\, wenn sich Hirschaid in ein buntes Treiben aus Gaudi\, Kostümen und guter Laune verwandelt!
LOCATION:Nähe Bücherei Hirschaid
URL;VALUE=URI:https://strombraeu.com/events/%f0%9f%8e%ad-strombraeu-beim-hirschaider-faschingsumzug-2026/
END:VEVENT
END:VCALENDAR
