BEGIN:VCALENDAR
VERSION:2.0
PRODID:-//Strombräu//Events//DE
CALSCALE:GREGORIAN
BEGIN:VEVENT
UID:strombraeu-event-6416@strombraeu.com
DTSTAMP:20260425T165907Z
DTSTART:20260322T110000Z
DTEND:20260322T160000Z
SUMMARY:🌷 Strombräu auf dem Hirschaider Frühjahrsmarkt
DESCRIPTION:Der Frühling kommt und wir natürlich auch!\\nAm 22.03. sind wir wieder auf dem Hirschaider Frühjahrsmarkt mit dabei und versorgen euch mit frisch gezapftem Blitzla Hellem und guter Laune.
LOCATION:Hirschaid Ortsmitte
URL;VALUE=URI:https://strombraeu.com/events/%f0%9f%8c%b7-strombraeu-auf-dem-hirschaider-fruehjahrsmarkt/
END:VEVENT
END:VCALENDAR
